BEGIN:VCALENDAR
VERSION:2.0
PRODID:-//Children&#039;s Hope Alliance - ECPv6.15.20//NONSGML v1.0//EN
CALSCALE:GREGORIAN
METHOD:PUBLISH
X-WR-CALNAME:Children&#039;s Hope Alliance
X-ORIGINAL-URL:https://www.childrenshopealliance.org
X-WR-CALDESC:Events for Children&#039;s Hope Alliance
REFRESH-INTERVAL;VALUE=DURATION:PT1H
X-Robots-Tag:noindex
X-PUBLISHED-TTL:PT1H
BEGIN:VTIMEZONE
TZID:America/New_York
BEGIN:DAYLIGHT
TZOFFSETFROM:-0500
TZOFFSETTO:-0400
TZNAME:EDT
DTSTART:20210314T070000
END:DAYLIGHT
BEGIN:STANDARD
TZOFFSETFROM:-0400
TZOFFSETTO:-0500
TZNAME:EST
DTSTART:20211107T060000
END:STANDARD
BEGIN:DAYLIGHT
TZOFFSETFROM:-0500
TZOFFSETTO:-0400
TZNAME:EDT
DTSTART:20220313T070000
END:DAYLIGHT
BEGIN:STANDARD
TZOFFSETFROM:-0400
TZOFFSETTO:-0500
TZNAME:EST
DTSTART:20221106T060000
END:STANDARD
BEGIN:DAYLIGHT
TZOFFSETFROM:-0500
TZOFFSETTO:-0400
TZNAME:EDT
DTSTART:20230312T070000
END:DAYLIGHT
BEGIN:STANDARD
TZOFFSETFROM:-0400
TZOFFSETTO:-0500
TZNAME:EST
DTSTART:20231105T060000
END:STANDARD
END:VTIMEZONE
BEGIN:VEVENT
DTSTART;TZID=America/New_York:20220329T080000
DTEND;TZID=America/New_York:20220329T170000
DTSTAMP:20260420T132336
CREATED:20211004T124818Z
LAST-MODIFIED:20220711T180516Z
UID:14987-1648540800-1648573200@www.childrenshopealliance.org
SUMMARY:CHA New Staff Training:  Therapeutic Crisis Intervention (TCI)  Day 1
DESCRIPTION:In person at Little Joe’s
URL:https://www.childrenshopealliance.org/event/cha-new-staff-training-therapeutic-crisis-intervention-tci-day-1-4/2022-03-29
LOCATION:Little Joe’s\, 107 Grannis Lane\, Barium Springs\, NC\, 28677\, United States
CATEGORIES:All Staff
ORGANIZER;CN="Children's Hope Alliance":MAILTO:communications@childrenshopealliance.org
END:VEVENT
END:VCALENDAR